BEGIN:VCALENDAR
VERSION:2.0
PRODID:-//Contratero//ES
CALSCALE:GREGORIAN
METHOD:PUBLISH
BEGIN:VEVENT
UID:SERVICIOS 2/24@contratero.es
DTSTAMP:20260426T020300Z
DTSTART:20240318T235959
DTEND:20240319T005959
SUMMARY:Cierre: Gestión\, operación y mantenimiento de los sistemas
DESCRIPTION:Gestión\, operación y mantenimiento de los sistemas informáticos\, sistemas de comunicaciones y de los servicios necesarios para la realización de las tareas de asistencia técnica\, apoyo y asesoramiento...\\n\\nOrganismo: Junta de Gobierno del Ayuntamiento de Toledo\\n\\nVer en Contratero: https://contratero.es/contracts/SERVICIOS 2/24
URL:https://contratero.es/contracts/SERVICIOS 2/24
STATUS:CONFIRMED
BEGIN:VALARM
TRIGGER:-P1D
ACTION:DISPLAY
DESCRIPTION:Recordatorio: Gestión\, operación y mantenimi
END:VALARM
END:VEVENT
END:VCALENDAR